BEGIN:VCALENDAR
PRODID:-//Det Danske Spejderkorps//NONSGML Gruppeweb//EN
VERSION:2.0
CALSCALE:GREGORIAN
X-PUBLISHED-TTL:PT1H
X-WR-CALNAME:Mikroer
METHOD:PUBLISH
BEGIN:VEVENT
UID:gruppeweb.dk:7513:event:269
DTSTAMP:20260423T165015Z
LAST-MODIFIED:20250527T114818Z
SUMMARY:Forlev Pinse Lejr\,  2025
DESCRIPTION: *Hej spejder*\n\n\n\n \n\nNu skal vi på MUS-lejr og på den
 ne\nlejr er vi sammen både mikro og mini.\n\n\n\n \n\nLejren foregår p
 å Forlev\nspejdercenter i Pinseferien\, og der vil være spejdere fra en 
 masse andre  \nspejdergrupper\,\nog temaet bliver\n*Scooby Doo*. Det blive
 r helt sikkert sjovt!\n\n\n\n \n\n*Mødetid:* Vi mødes ved nedkørslen t
 il\nForlev Spejdercenter (Illerupvej\, Skyggelundsvej\, i Skanderborg) fre
 dag d.  \n6/6 2025 kl. 18:00\, Man skal have spist hjemmefra.\n\n\n\n \n\
 n*Pris:* Kr. 475\,- (Inkl. Lejr T-shirt) Tilmelding via hjemmesiden.\n\n\n
 \nTilmeldingsfrist d. 23/05 2025\n\n\n\n \n\n*Afhentning:* Mandag d. 09/0
 6 kl. 12:30 på lejrpladsen.\n\n\n\nMan SKAL parkere oppe på Illerupvej o
 g gå ned til\npladsen ca. 1 km.\n\n\n\n \n\n*Lommepenge: *4 x 10 kr.\n+ 
 2 x 5 kr. I alt kr. 50\,- \n(Som afleveres ved afgang i en pung eller lyn
 lås-pose med navn på)**\n\n\n\n \n\nVi skal sove i telt\, så husk\nlig
 geunderlag. Spejderne skal selv pakke deres taske\, så de ved hvad de har
   \nmed\nog de skal selv bære den 1 km.\n\n\n\n \n\n\n\n\nSlik og mobil\
 n   er forbudt.\n\n\n\n \n\nVi glæder os\n\n\n\n \n\n \n\nSpejderhilse
 n\n\n\n\nMikro- og minilederne\n\n\n\n \n\n\n\n\n\n \n\n
URL:https://ddshorning.dk/begivenhed/forlev-pinse-lejr-2025
DTSTART:20250606T160000Z
DTEND:20250609T103000Z
LOCATION:Forlev Spejdercenter\, Skyggelundsvej 3\, 8660 Skanderborg
END:VEVENT
BEGIN:VEVENT
UID:gruppeweb.dk:7513:event:281
DTSTAMP:20260423T165015Z
LAST-MODIFIED:20260214T195120Z
SUMMARY:MUS løb sammen med minierne
DESCRIPTION:MUS løbet er et årligt løb\, der arrangeres af Sct. Georgs G
 ilderne for at  \nsamle og engagere de yngste spejdere. Årets historie og
  tema er "Peter  \nSvupstiks spejderskrøner" som spejderne har fået med
  hjem.\n\nMikroerne fra Hørning vil gå rundt sammen med minierne og dere
 s ledere.\n\nDato: Lørdag den 4. oktober 2025. \nTid: Kl. 13:00 - 16:30.
  \nSted: Dyrehaven/Capri i Skanderborg.  \nMålgruppe: Spejdere i 0.-5.
  klasse (mikro og mini)\, samt tilsvarende  \naldersgrupper.\n\n\n\n
URL:https://ddshorning.dk/begivenhed/mus-loeb-sammen-med-minierne
DTSTART:20251004T113000Z
DTEND:20251004T143000Z
LOCATION:Hørning Gruppe\, Fregerslevvej 22\, 8362 Hørning
END:VEVENT
BEGIN:VEVENT
UID:gruppeweb.dk:7513:event:276
DTSTAMP:20260423T165015Z
LAST-MODIFIED:20260214T195134Z
SUMMARY:Smølfelejr
DESCRIPTION:\nKære Mikro-spejdere\n\nPak rygsækken og find jeres eventyrl
 yst frem\, for i er inviteret til en  \nrigtig smølfetastisk spejderlejr
 !\n\nVi skal på tur i smølfernes verden\, hvor vi leger\, udforsker\nog 
 hygger os. Måske møder vi Smølfine\, Gammelsmølf eller bliver fanget a
 f\nGargamel…\n\n📅 *Tid:*\nLørdag d. 11. oktober kl. 10.00\ntil sønd
 ag d. 12. oktober kl. 10.00\n\n📍 *Sted:*\nEn spejderhytte i lokalområd
 et (nærmere information følger\, når hytten er\nfundet).\n\n🍲 *Mad o
 g drikke:*\nVi sørger for lækker smølfemad til hele weekenden.\n\n🎒 
 *Medbring:*\n\n * Sovepose\n         og bamse\n * Tøj\n         til både
  ude og inde (vi er jo spejdere!)\n * Toiletsager\n * Tørklæde\n * Godt\
 n         humør\n\nVi glæder os til at tage jer med på et ægte smølfe
 eventyr\nfyldt med leg\, fantasi\, bål og spejderhygge.\n\nSmølfe hilsne
 r\n\nMikrolederne\n\n\n
URL:https://ddshorning.dk/begivenhed/smoelfelejr
DTSTART:20251011T080000Z
DTEND:20251012T080000Z
LOCATION:Hørning Gruppe\, Fregerslevvej 22\, 8362 Hørning
END:VEVENT
BEGIN:VEVENT
UID:gruppeweb.dk:7513:event:286
DTSTAMP:20260423T165015Z
LAST-MODIFIED:20251028T134655Z
SUMMARY:Julemærkemarch 2025
DESCRIPTION:\nSå er der åbent for tilmelding til årets Julemærkemarch\,
  hvor vi i DDS  \nHørning har en lang tradition for at deltage som hold m
 ed både spejdere\,  \nforældre\, venner og bekendte.\n\nMan tilmelder si
 g på hjemmesiden senest 12. november som til alle andre  \narrangementer 
 ved at angive hvor mange startkort\, ærmemærker og medaljer  \nman ønsk
 er\, og betale for det ved tilmeldingen.\n\n*/Ingen\ntilmelding uden betal
 ing!/*\n\n\n\nDu tælles kun med på holdet\, hvis du\nkøber startkort ge
 nnem gruppen - med eller uden medalje.\n\n\n\nDer vil være mulighed for s
 amkørsel\nfra Rådhuspladsen kl. 8.30\, hvis det ønskes.\n\n\n\nTil de f
 orældre der kører selv\, er\nstarttidspunktet kl. 9.00 på startstedet (
 kom i god tid).\n\n\n\nHent jeres startkort senest kl. 8.50\nhos undertegn
 ede.\n\n\n\nHusk afbud hvis\ndu er tilmeldt og ikke kan komme. (Mobil 27 6
 2 27 31 – på startstedet).\n\n\n\n*OG IKKE MINDST:* Kom ind til\nmig og
  hent jeres startkort\, *FØR* I går ud på turen.\n\n\n\n* *\n\n\n\n*Ov
 erskuddet* går\nubeskåret til  \njulemærkehjemmene.          
                                   \n\n\n
 \n \n\n\n\nYderligere oplysninger\n\n\n\n/Poul Erik tlf. 86 92 27 31 - 27
  62 27 31 (Flora)/\n\n\n\n* *\n\n\n\n\n*Husk** - Det er for hele familien
 \, venner og bekendte\, bare alle\ner tilmeldt igennem en spejder.*\n\n\n\
 nDet bestilte udleveres på startstedet ved henvendelse til Poul Erik (Flo
 ra)  \nsenest kl. 08.50.\n\n
URL:https://ddshorning.dk/begivenhed/julemaerkemarch-2025
DTSTART:20251207T080000Z
DTEND:20251207T120000Z
LOCATION:Rosenvangskolen\, Rosenvangs Allé 49\, 8260 Viby J
END:VEVENT
BEGIN:VEVENT
UID:gruppeweb.dk:7513:event:300
DTSTAMP:20260423T165015Z
LAST-MODIFIED:20260404T202856Z
SUMMARY:Spejderlejr
DESCRIPTION:Hej 😊\n\nSå skal vi på spejderlejr – denne gang i Edslev
 hytten med  \nskattejæger-tema 🏴‍☠️🗺️\n\n📅 Lørdag d. 18
 . april kl. 10.00 – søndag d. 19. april kl. 10.00\n📍 Aflevering: Fre
 gerslev Stadion\n📍 Afhentning: Edslevhytten\n\nVi skal på skattejagt\,
  lave bål og have masser af sjov i naturen.\n\nPakkeliste vedhæftet som 
 pdf og husk gode gåsko og tøj efter vejret\, da vi  \nskal gå 5km.\n\nS
 kriv endelig ved spørgsmål 😊\n\nSpejderhilsen fra Mikrolederne\n\n[1]
 \n\n\n[1] https://ddshorning.dk/web/content/4957355?access_token=0f23533b-
 169f-4159-8184-055c932dfe53&amp\;unique=aa5216645ebd579cfe3072c0c237ede810
 c60dbb&amp\;download=true\n
URL:https://ddshorning.dk/begivenhed/spejderlejr
DTSTART:20260418T080000Z
DTEND:20260419T080000Z
LOCATION:Edslevhytten\, Gungdyvej 49A\, 8362 Hørning
END:VEVENT
BEGIN:VEVENT
UID:gruppeweb.dk:7513:event:282
DTSTAMP:20260423T165015Z
LAST-MODIFIED:20260225T205940Z
SUMMARY:SL2026- Step_1
DESCRIPTION:Så er tilmeldingen til SL2026 åben.\n\nDette bliver den stør
 ste spejder begivenhed i flere år\, og noget en spejder  \nhelt sikkert v
 il kunne huske mange år frem\, uanset alder.\nSom tidligere fortalt tager
  vi afsted i 2 hold.\nGruppen har valgt at give et tilskud til deltagerpri
 sen\, for at få så mange  \nmed som muligt\,\nTilskuddet er henholdsvis 
 kr. 975\,- & kr. 560\,-\nMikro/Mini fra søndag d. 19 juli til Onsdag d. 2
 2 Juli\, og prisen er efter  \ntilskud kr. 800\,-\nJunior/Trop/Klan fra L
 ørdag d. 18 Juli til Søndag d. 26 Juli\, og prisen er  \nher efter tilsk
 ud kr. 1500\,-\nVed tilmelding indbetaler alle de kr. 800\,- og senere uds
 endes 2 rate på kr.  \n700\,- til Junior/Trop/Klan.\n*HUSK!*\nHar man af 
 en eller anden årsag behov for at få delt indbetalingerne op i  \nflere 
 rater\, er det blot at skrive til gl@ddshorning.dk (Vi går langt for at  
 \nfå alle med)\nI prisen er der inkluderet transport\, mad osv. så enest
 e ekstra omkostning  \nvil være lidt lommepenge :)\nVi afholder selvfølg
 elig et SL2026 informationsmøde når vi nærmer os.\nSkulle der være sp
 ørgsmål\, bekymringer eller andet\, inden man tilmelder  \nsig\, er man 
 meget velkommen til at skrive til Thomas på trop@ddshorning.dk  \nså fin
 der vi helt sikkert den rigtige løsning eller svar.\nSå kom frisk\, vi v
 il gerne have rigtig mange med på denne KÆMPE  \noplevelsestur sammen me
 d hele Hørning Gruppe.\n
URL:https://ddshorning.dk/begivenhed/sl2026-step1
DTSTART:20260718T080000Z
DTEND:20260726T140000Z
LOCATION:SL 2026\, Tranemosevej 2\, 2640 Hedehusense
END:VEVENT
BEGIN:VEVENT
UID:gruppeweb.dk:7513:event:277
DTSTAMP:20260423T165015Z
LAST-MODIFIED:20250906T093318Z
SUMMARY:SL 2026 Forhånds tilmelding
DESCRIPTION:Denne forhåndstilmelding er blot for at få et overblik over h
 vor mange  \nspejdere der ca. skal med\, og derved har vi også en idé om
  hvor mange  \nvoksne der skal med.\nSpejdernes lejr 2026 er jo næste år
 .\nDet vil løbe af stablen i uge 30 næste år\nDet vil være en af de st
 ørste oplevelser man som spejder kan deltage i.\n35.000 mennesker samlet 
 i en stor lejr\, med masser af aktiviteter\, oplevelser  \nog kammeratskab
 er.\n\nRafter\, bål\, vand\, leg og hygge i en hel uge. Både sammen med 
 dem man  \nkender hjemmefra og de nye spejdervenner man møder\, fra en an
 den by\, ja  \nmåske fra et andet land.\n\nHørning gruppe deltager selvf
 ølgelig på denne lejr\, ja vi kan slet ikke  \nlade være\, da det blive
 r super sjovt.\n\nLejren for junior\, trop & senior vil vare fra lørdag t
 il søndag ugen efter.\n\nMikro\, mini ankommer ”først” søndag. Lejr
 en varer til og med onsdag\,  \nhvor der vil blive arrangeret forældredag
 . Så giv Jeres bedste bud på om  \nJeres spejder deltager på denne fant
 astiske lejr.\nPrisen for deltagelse kommer efter næste bestyrelsesmøde.
 \nVi vil gerne vide om du helt sikkert ved du skal med\, om du måske skal
  med\,  \neller at du helt sikkert ved du ikke skal med.\n\nEvt. spørgsm
 ål kan sendes til: trop@ddshorning.dk\n\nHusk: Tilmeldingen er ikke binde
 nde :)\n\n
URL:https://ddshorning.dk/begivenhed/sl-2026-forhaands-tilmelding
DTSTART:20260718T091500Z
DTEND:20260726T091500Z
LOCATION:SL 2026\, Tranemosevej 2\, 2640 Hedehusene
END:VEVENT
END:VCALENDAR
