BEGIN:VCALENDAR
PRODID:-//Det Danske Spejderkorps//NONSGML Gruppeweb//EN
VERSION:2.0
CALSCALE:GREGORIAN
X-PUBLISHED-TTL:PT1H
X-WR-CALNAME:Juniorer
METHOD:PUBLISH
BEGIN:VEVENT
UID:gruppeweb.dk:7513:event:261
DTSTAMP:20260425T235034Z
LAST-MODIFIED:20250429T074530Z
SUMMARY:Divisions turnering 2025
DESCRIPTION:-------- *Kære spejdere og forældre* ------------------------
 ---------------\n\n\nDen 16. - 18. maj bliver der\nafholdt divi på Ryekol
  (Galgebakken 12\, 8680 Ry). Divi er en fælles  \nspejderlejr\nfor alle s
 pejdere i Gudenå Division\, som består af 11 spejdergrupper i\nØstjylla
 nd.\n\n\n\n\nPå divi er\nman afsted sammen med sine spejdervenner og lede
 re fra gruppen\, men man  \nmøder\naltså også spejdere fra andre gruppe
 r.\nFra Hørning deltager\, Mini-\, Junior og Trops spejdere.\n\n\n\nDa vi
  skal sove i telt\, skal man huske almindeligt weekendudstyr: tøj til at 
  \nvære udenfor\, spisegrej\, sovepose\, liggeunderlag og toilettaske.\nF
 or mini & Junior gælder det at det er en mobilfri lejr.\n\n\n\n\n
URL:https://ddshorning.dk/begivenhed/divisions-turnering-2025
DTSTART:20250516T150000Z
DTEND:20250518T083000Z
LOCATION:Ryekol\, Galgebakken 12\, 8680 Ry
END:VEVENT
BEGIN:VEVENT
UID:gruppeweb.dk:7513:event:274
DTSTAMP:20260425T235034Z
LAST-MODIFIED:20250831T203130Z
SUMMARY:Tur i Tivolifriheden med løb og overnatning
DESCRIPTION:Spejdere og FDFere fra hele landet samles i Tivoli Friheden til
  en magisk  \nweekend fyldt med udfordringer\, fælleskab\, kreativitet - 
 om kampen om  \nTivolis skæbne!\nOplev vilde aktiviteter\, sov blandt rut
 chebaner og bliv en del af en  \noplevelse\, du aldrig glemmer.\n\nI septe
 mber bliver magien virkelig - skal du med ?\n\n
URL:https://ddshorning.dk/begivenhed/tur-i-tivolifriheden-med-loeb-og-overn
 atning
DTSTART:20250920T070000Z
DTEND:20250921T080000Z
LOCATION:Tivoli Friheden\, Skovbrynet 5\, 8000 Aarhus C
END:VEVENT
BEGIN:VEVENT
UID:gruppeweb.dk:7513:event:275
DTSTAMP:20260425T235034Z
LAST-MODIFIED:20260214T195135Z
SUMMARY:Juniorkanotur
DESCRIPTION:Hej spejdere\,\nSøndag d. 28/9 skal vi på en hyggelig kanotur
  med aktiviteter undervejs.\n• Aflevering: Gammel Rye Teltplads kl. 10.0
 0 (google maps) [1]\n•Afhentning: Skimminghøj Teltplads kl. 19.00 (goog
 le maps) [2]\nHusk at medbringe tøj der passer til vejret\, drikkedunk\, 
 samt godt humør!\nVi glæder os til en dejlig dag på vandet!\n\nSpejderh
 ilsner fra Freja\, Mette og Jesper\n\n\n[1] https://maps.app.goo.gl/faypS8
 axeKJuaf8F7\n[2] https://maps.app.goo.gl/d861Kpd6pi2AZ2PG7\n
URL:https://ddshorning.dk/begivenhed/juniorkanotur
DTSTART:20250928T080000Z
DTEND:20250928T170000Z
LOCATION:Hørning Gruppe\, Fregerslevvej 22\, 8362 Hørning
END:VEVENT
BEGIN:VEVENT
UID:gruppeweb.dk:7513:event:286
DTSTAMP:20260425T235034Z
LAST-MODIFIED:20251028T134655Z
SUMMARY:Julemærkemarch 2025
DESCRIPTION:\nSå er der åbent for tilmelding til årets Julemærkemarch\,
  hvor vi i DDS  \nHørning har en lang tradition for at deltage som hold m
 ed både spejdere\,  \nforældre\, venner og bekendte.\n\nMan tilmelder si
 g på hjemmesiden senest 12. november som til alle andre  \narrangementer 
 ved at angive hvor mange startkort\, ærmemærker og medaljer  \nman ønsk
 er\, og betale for det ved tilmeldingen.\n\n*/Ingen\ntilmelding uden betal
 ing!/*\n\n\n\nDu tælles kun med på holdet\, hvis du\nkøber startkort ge
 nnem gruppen - med eller uden medalje.\n\n\n\nDer vil være mulighed for s
 amkørsel\nfra Rådhuspladsen kl. 8.30\, hvis det ønskes.\n\n\n\nTil de f
 orældre der kører selv\, er\nstarttidspunktet kl. 9.00 på startstedet (
 kom i god tid).\n\n\n\nHent jeres startkort senest kl. 8.50\nhos undertegn
 ede.\n\n\n\nHusk afbud hvis\ndu er tilmeldt og ikke kan komme. (Mobil 27 6
 2 27 31 – på startstedet).\n\n\n\n*OG IKKE MINDST:* Kom ind til\nmig og
  hent jeres startkort\, *FØR* I går ud på turen.\n\n\n\n* *\n\n\n\n*Ov
 erskuddet* går\nubeskåret til  \njulemærkehjemmene.          
                                   \n\n\n
 \n \n\n\n\nYderligere oplysninger\n\n\n\n/Poul Erik tlf. 86 92 27 31 - 27
  62 27 31 (Flora)/\n\n\n\n* *\n\n\n\n\n*Husk** - Det er for hele familien
 \, venner og bekendte\, bare alle\ner tilmeldt igennem en spejder.*\n\n\n\
 nDet bestilte udleveres på startstedet ved henvendelse til Poul Erik (Flo
 ra)  \nsenest kl. 08.50.\n\n
URL:https://ddshorning.dk/begivenhed/julemaerkemarch-2025
DTSTART:20251207T080000Z
DTEND:20251207T120000Z
LOCATION:Rosenvangskolen\, Rosenvangs Allé 49\, 8260 Viby J
END:VEVENT
BEGIN:VEVENT
UID:gruppeweb.dk:7513:event:301
DTSTAMP:20260425T235034Z
LAST-MODIFIED:20260417T130244Z
SUMMARY:Divi
DESCRIPTION:Så skal vi på Divisionsturnering sammen med en masse andre ju
 niorspejdere  \nfra Gudenå Divisionen.\nVi skal igen være på Ryekol Spe
 jdercenter\, og det bliver mega skægt.\nSå har du lyst til at komme på 
 spejderlejr og hygge sammen med os fra  \nHørning\, samt møde nogle af d
 em du måske allerede kender fra andre spejder  \ngrupper\, nogen der mås
 ke også skal på SL\, eller blot en som gerne vil  \nvære gode venner me
 d dig.\n\nSå hold dig ikke tilbage\, og skynd dig at tilmelde dig..\nPris
 en er 0 kr. da det er en gratislejr. Gruppen dækker lejr udgifterne\, du 
  \nskal blot selv sørge for at komme til GL. Ry\n\nDer er aftensmad freda
 g aften\, så du behøver ikke at have spist hjemme fra.\n\n\nSpejderhilse
 n fra Freja\, Mette og Jesper\n\n\n
URL:https://ddshorning.dk/begivenhed/divi
DTSTART:20260501T140000Z
DTEND:20260503T080000Z
LOCATION:Ryekol\, Galgebakken 12\, 8680 Ry
END:VEVENT
BEGIN:VEVENT
UID:gruppeweb.dk:7513:event:282
DTSTAMP:20260425T235034Z
LAST-MODIFIED:20260225T205940Z
SUMMARY:SL2026- Step_1
DESCRIPTION:Så er tilmeldingen til SL2026 åben.\n\nDette bliver den stør
 ste spejder begivenhed i flere år\, og noget en spejder  \nhelt sikkert v
 il kunne huske mange år frem\, uanset alder.\nSom tidligere fortalt tager
  vi afsted i 2 hold.\nGruppen har valgt at give et tilskud til deltagerpri
 sen\, for at få så mange  \nmed som muligt\,\nTilskuddet er henholdsvis 
 kr. 975\,- & kr. 560\,-\nMikro/Mini fra søndag d. 19 juli til Onsdag d. 2
 2 Juli\, og prisen er efter  \ntilskud kr. 800\,-\nJunior/Trop/Klan fra L
 ørdag d. 18 Juli til Søndag d. 26 Juli\, og prisen er  \nher efter tilsk
 ud kr. 1500\,-\nVed tilmelding indbetaler alle de kr. 800\,- og senere uds
 endes 2 rate på kr.  \n700\,- til Junior/Trop/Klan.\n*HUSK!*\nHar man af 
 en eller anden årsag behov for at få delt indbetalingerne op i  \nflere 
 rater\, er det blot at skrive til gl@ddshorning.dk (Vi går langt for at  
 \nfå alle med)\nI prisen er der inkluderet transport\, mad osv. så enest
 e ekstra omkostning  \nvil være lidt lommepenge :)\nVi afholder selvfølg
 elig et SL2026 informationsmøde når vi nærmer os.\nSkulle der være sp
 ørgsmål\, bekymringer eller andet\, inden man tilmelder  \nsig\, er man 
 meget velkommen til at skrive til Thomas på trop@ddshorning.dk  \nså fin
 der vi helt sikkert den rigtige løsning eller svar.\nSå kom frisk\, vi v
 il gerne have rigtig mange med på denne KÆMPE  \noplevelsestur sammen me
 d hele Hørning Gruppe.\n
URL:https://ddshorning.dk/begivenhed/sl2026-step1
DTSTART:20260718T080000Z
DTEND:20260726T140000Z
LOCATION:SL 2026\, Tranemosevej 2\, 2640 Hedehusense
END:VEVENT
BEGIN:VEVENT
UID:gruppeweb.dk:7513:event:277
DTSTAMP:20260425T235034Z
LAST-MODIFIED:20250906T093318Z
SUMMARY:SL 2026 Forhånds tilmelding
DESCRIPTION:Denne forhåndstilmelding er blot for at få et overblik over h
 vor mange  \nspejdere der ca. skal med\, og derved har vi også en idé om
  hvor mange  \nvoksne der skal med.\nSpejdernes lejr 2026 er jo næste år
 .\nDet vil løbe af stablen i uge 30 næste år\nDet vil være en af de st
 ørste oplevelser man som spejder kan deltage i.\n35.000 mennesker samlet 
 i en stor lejr\, med masser af aktiviteter\, oplevelser  \nog kammeratskab
 er.\n\nRafter\, bål\, vand\, leg og hygge i en hel uge. Både sammen med 
 dem man  \nkender hjemmefra og de nye spejdervenner man møder\, fra en an
 den by\, ja  \nmåske fra et andet land.\n\nHørning gruppe deltager selvf
 ølgelig på denne lejr\, ja vi kan slet ikke  \nlade være\, da det blive
 r super sjovt.\n\nLejren for junior\, trop & senior vil vare fra lørdag t
 il søndag ugen efter.\n\nMikro\, mini ankommer ”først” søndag. Lejr
 en varer til og med onsdag\,  \nhvor der vil blive arrangeret forældredag
 . Så giv Jeres bedste bud på om  \nJeres spejder deltager på denne fant
 astiske lejr.\nPrisen for deltagelse kommer efter næste bestyrelsesmøde.
 \nVi vil gerne vide om du helt sikkert ved du skal med\, om du måske skal
  med\,  \neller at du helt sikkert ved du ikke skal med.\n\nEvt. spørgsm
 ål kan sendes til: trop@ddshorning.dk\n\nHusk: Tilmeldingen er ikke binde
 nde :)\n\n
URL:https://ddshorning.dk/begivenhed/sl-2026-forhaands-tilmelding
DTSTART:20260718T091500Z
DTEND:20260726T091500Z
LOCATION:SL 2026\, Tranemosevej 2\, 2640 Hedehusene
END:VEVENT
END:VCALENDAR
